BEGIN:VCALENDAR
VERSION:2.0
PRODID:-//VfL Güldenstern Stade Tischtennis - ECPv6.15.20//NONSGML v1.0//EN
CALSCALE:GREGORIAN
METHOD:PUBLISH
X-ORIGINAL-URL:https://vfl-stade-tischtennis.de
X-WR-CALDESC:Veranstaltungen für VfL Güldenstern Stade Tischtennis
REFRESH-INTERVAL;VALUE=DURATION:PT1H
X-Robots-Tag:noindex
X-PUBLISHED-TTL:PT1H
BEGIN:VTIMEZONE
TZID:Europe/Berlin
BEGIN:DAYLIGHT
TZOFFSETFROM:+0100
TZOFFSETTO:+0200
TZNAME:CEST
DTSTART:20220327T010000
END:DAYLIGHT
BEGIN:STANDARD
TZOFFSETFROM:+0200
TZOFFSETTO:+0100
TZNAME:CET
DTSTART:20221030T010000
END:STANDARD
BEGIN:DAYLIGHT
TZOFFSETFROM:+0100
TZOFFSETTO:+0200
TZNAME:CEST
DTSTART:20230326T010000
END:DAYLIGHT
BEGIN:STANDARD
TZOFFSETFROM:+0200
TZOFFSETTO:+0100
TZNAME:CET
DTSTART:20231029T010000
END:STANDARD
BEGIN:DAYLIGHT
TZOFFSETFROM:+0100
TZOFFSETTO:+0200
TZNAME:CEST
DTSTART:20240331T010000
END:DAYLIGHT
BEGIN:STANDARD
TZOFFSETFROM:+0200
TZOFFSETTO:+0100
TZNAME:CET
DTSTART:20241027T010000
END:STANDARD
END:VTIMEZONE
BEGIN:VEVENT
DTSTART;TZID=Europe/Berlin:20231106T201500
DTEND;TZID=Europe/Berlin:20231106T230000
DTSTAMP:20260422T121045
CREATED:20231017T111213Z
LAST-MODIFIED:20231017T111213Z
UID:4895-1699301700-1699311600@vfl-stade-tischtennis.de
SUMMARY:TTG Buxtehude (SG) VI vs. VfL Güldenstern Stade IV
DESCRIPTION:3. Kreisklasse Herren
URL:https://vfl-stade-tischtennis.de/event/ttg-buxtehude-sg-vi-vs-vfl-gueldenstern-stade-iv/
LOCATION:Sporthalle Stieglitzschule Buxtehude\, Stieglitzweg 1\, Buxtehude\, Niedersachsen\, 21614\, Deutschland
CATEGORIES:Punktspiele,Spiele Kreisklasse
END:VEVENT
END:VCALENDAR