BEGIN:VCALENDAR
VERSION:2.0
PRODID:-//VfL Güldenstern Stade Tischtennis - ECPv6.15.20//NONSGML v1.0//EN
CALSCALE:GREGORIAN
METHOD:PUBLISH
X-WR-CALNAME:VfL Güldenstern Stade Tischtennis
X-ORIGINAL-URL:https://vfl-stade-tischtennis.de
X-WR-CALDESC:Veranstaltungen für VfL Güldenstern Stade Tischtennis
REFRESH-INTERVAL;VALUE=DURATION:PT1H
X-Robots-Tag:noindex
X-PUBLISHED-TTL:PT1H
BEGIN:VTIMEZONE
TZID:Europe/Berlin
BEGIN:DAYLIGHT
TZOFFSETFROM:+0100
TZOFFSETTO:+0200
TZNAME:CEST
DTSTART:20220327T010000
END:DAYLIGHT
BEGIN:STANDARD
TZOFFSETFROM:+0200
TZOFFSETTO:+0100
TZNAME:CET
DTSTART:20221030T010000
END:STANDARD
BEGIN:DAYLIGHT
TZOFFSETFROM:+0100
TZOFFSETTO:+0200
TZNAME:CEST
DTSTART:20230326T010000
END:DAYLIGHT
BEGIN:STANDARD
TZOFFSETFROM:+0200
TZOFFSETTO:+0100
TZNAME:CET
DTSTART:20231029T010000
END:STANDARD
BEGIN:DAYLIGHT
TZOFFSETFROM:+0100
TZOFFSETTO:+0200
TZNAME:CEST
DTSTART:20240331T010000
END:DAYLIGHT
BEGIN:STANDARD
TZOFFSETFROM:+0200
TZOFFSETTO:+0100
TZNAME:CET
DTSTART:20241027T010000
END:STANDARD
END:VTIMEZONE
BEGIN:VEVENT
DTSTART;TZID=Europe/Berlin:20231107T180000
DTEND;TZID=Europe/Berlin:20231107T200000
DTSTAMP:20260422T120527
CREATED:20231017T111415Z
LAST-MODIFIED:20231017T111415Z
UID:4897-1699380000-1699387200@vfl-stade-tischtennis.de
SUMMARY:VfL Güldenstern Stade II vs. TTC Drochtersen
DESCRIPTION:Kreisliga Jugend
URL:https://vfl-stade-tischtennis.de/event/vfl-gueldenstern-stade-ii-vs-ttc-drochtersen/
LOCATION:Sporthalle Ottenbeck\, Ottenbecker Damm 50\, Stade\, Niedersachsen\, 21684\, Deutschland
CATEGORIES:Punktspiele,Spiele Kreisliga
END:VEVENT
BEGIN:VEVENT
DTSTART;TZID=Europe/Berlin:20231107T200000
DTEND;TZID=Europe/Berlin:20231107T230000
DTSTAMP:20260422T120527
CREATED:20231017T111507Z
LAST-MODIFIED:20231017T111507Z
UID:4899-1699387200-1699398000@vfl-stade-tischtennis.de
SUMMARY:VfL Güldenstern Stade II vs. TTG Buxtehude (SG) III
DESCRIPTION:Bezirksklasse Herren
URL:https://vfl-stade-tischtennis.de/event/vfl-gueldenstern-stade-ii-vs-ttg-buxtehude-sg-iii/
LOCATION:Sporthalle Ottenbeck\, Ottenbecker Damm 50\, Stade\, Niedersachsen\, 21684\, Deutschland
CATEGORIES:Punktspiele,Spiele Bezirksklasse
END:VEVENT
END:VCALENDAR