BEGIN:VCALENDAR
VERSION:2.0
PRODID:-//VfL Güldenstern Stade Tischtennis - ECPv6.15.20//NONSGML v1.0//EN
CALSCALE:GREGORIAN
METHOD:PUBLISH
X-WR-CALNAME:VfL Güldenstern Stade Tischtennis
X-ORIGINAL-URL:https://vfl-stade-tischtennis.de
X-WR-CALDESC:Veranstaltungen für VfL Güldenstern Stade Tischtennis
REFRESH-INTERVAL;VALUE=DURATION:PT1H
X-Robots-Tag:noindex
X-PUBLISHED-TTL:PT1H
BEGIN:VTIMEZONE
TZID:Europe/Berlin
BEGIN:DAYLIGHT
TZOFFSETFROM:+0100
TZOFFSETTO:+0200
TZNAME:CEST
DTSTART:20220327T010000
END:DAYLIGHT
BEGIN:STANDARD
TZOFFSETFROM:+0200
TZOFFSETTO:+0100
TZNAME:CET
DTSTART:20221030T010000
END:STANDARD
BEGIN:DAYLIGHT
TZOFFSETFROM:+0100
TZOFFSETTO:+0200
TZNAME:CEST
DTSTART:20230326T010000
END:DAYLIGHT
BEGIN:STANDARD
TZOFFSETFROM:+0200
TZOFFSETTO:+0100
TZNAME:CET
DTSTART:20231029T010000
END:STANDARD
BEGIN:DAYLIGHT
TZOFFSETFROM:+0100
TZOFFSETTO:+0200
TZNAME:CEST
DTSTART:20240331T010000
END:DAYLIGHT
BEGIN:STANDARD
TZOFFSETFROM:+0200
TZOFFSETTO:+0100
TZNAME:CET
DTSTART:20241027T010000
END:STANDARD
END:VTIMEZONE
BEGIN:VEVENT
DTSTART;TZID=Europe/Berlin:20231120T200000
DTEND;TZID=Europe/Berlin:20231120T230000
DTSTAMP:20260422T132145
CREATED:20231017T112430Z
LAST-MODIFIED:20231017T112430Z
UID:4913-1700510400-1700521200@vfl-stade-tischtennis.de
SUMMARY:VfL Fredenbeck III vs. VfL Güldenstern Stade III
DESCRIPTION:Kreisliga Herren
URL:https://vfl-stade-tischtennis.de/event/vfl-fredenbeck-iii-vs-vfl-gueldenstern-stade-iii/
LOCATION:Kleine Halle Geestlandschule\, Am Mühlenbeck\, Fredenbeck\, Niedersachen\, 21717\, Deutschland
CATEGORIES:Punktspiele,Spiele Kreisliga
END:VEVENT
END:VCALENDAR