BEGIN:VCALENDAR
VERSION:2.0
PRODID:-//VfL Güldenstern Stade Tischtennis - ECPv6.15.20//NONSGML v1.0//EN
CALSCALE:GREGORIAN
METHOD:PUBLISH
X-WR-CALNAME:VfL Güldenstern Stade Tischtennis
X-ORIGINAL-URL:https://vfl-stade-tischtennis.de
X-WR-CALDESC:Veranstaltungen für VfL Güldenstern Stade Tischtennis
REFRESH-INTERVAL;VALUE=DURATION:PT1H
X-Robots-Tag:noindex
X-PUBLISHED-TTL:PT1H
BEGIN:VTIMEZONE
TZID:Europe/Berlin
BEGIN:DAYLIGHT
TZOFFSETFROM:+0100
TZOFFSETTO:+0200
TZNAME:CEST
DTSTART:20220327T010000
END:DAYLIGHT
BEGIN:STANDARD
TZOFFSETFROM:+0200
TZOFFSETTO:+0100
TZNAME:CET
DTSTART:20221030T010000
END:STANDARD
BEGIN:DAYLIGHT
TZOFFSETFROM:+0100
TZOFFSETTO:+0200
TZNAME:CEST
DTSTART:20230326T010000
END:DAYLIGHT
BEGIN:STANDARD
TZOFFSETFROM:+0200
TZOFFSETTO:+0100
TZNAME:CET
DTSTART:20231029T010000
END:STANDARD
BEGIN:DAYLIGHT
TZOFFSETFROM:+0100
TZOFFSETTO:+0200
TZNAME:CEST
DTSTART:20240331T010000
END:DAYLIGHT
BEGIN:STANDARD
TZOFFSETFROM:+0200
TZOFFSETTO:+0100
TZNAME:CET
DTSTART:20241027T010000
END:STANDARD
END:VTIMEZONE
BEGIN:VEVENT
DTSTART;TZID=Europe/Berlin:20231123T200000
DTEND;TZID=Europe/Berlin:20231123T230000
DTSTAMP:20260422T121636
CREATED:20231017T113234Z
LAST-MODIFIED:20231017T113234Z
UID:4919-1700769600-1700780400@vfl-stade-tischtennis.de
SUMMARY:VfL Güldenstern Stade IV vs. SG Oste/Oldendorf
DESCRIPTION:3. Kreisklasse Herren
URL:https://vfl-stade-tischtennis.de/event/vfl-gueldenstern-stade-iv-vs-sg-oste-oldendorf/
LOCATION:Turnhalle GS Campe\, Brinkstraße 48\, Stade\, Niedersachsen\, 21680\, Deutschland
CATEGORIES:Punktspiele,Spiele Kreisklasse
END:VEVENT
BEGIN:VEVENT
DTSTART;TZID=Europe/Berlin:20231123T200000
DTEND;TZID=Europe/Berlin:20231123T230000
DTSTAMP:20260422T121636
CREATED:20231017T113318Z
LAST-MODIFIED:20231017T113318Z
UID:4921-1700769600-1700780400@vfl-stade-tischtennis.de
SUMMARY:VfL Güldenstern Stade II vs. SV Düdenbüttel
DESCRIPTION:Bezirksklasse Herren
URL:https://vfl-stade-tischtennis.de/event/vfl-gueldenstern-stade-ii-vs-sv-duedenbuettel/
LOCATION:Turnhalle GS Campe\, Brinkstraße 48\, Stade\, Niedersachsen\, 21680\, Deutschland
CATEGORIES:Punktspiele,Spiele Bezirksklasse
END:VEVENT
END:VCALENDAR