BEGIN:VCALENDAR
VERSION:2.0
PRODID:-//VfL Güldenstern Stade Tischtennis - ECPv6.15.20//NONSGML v1.0//EN
CALSCALE:GREGORIAN
METHOD:PUBLISH
X-ORIGINAL-URL:https://vfl-stade-tischtennis.de
X-WR-CALDESC:Veranstaltungen für VfL Güldenstern Stade Tischtennis
REFRESH-INTERVAL;VALUE=DURATION:PT1H
X-Robots-Tag:noindex
X-PUBLISHED-TTL:PT1H
BEGIN:VTIMEZONE
TZID:Europe/Berlin
BEGIN:DAYLIGHT
TZOFFSETFROM:+0100
TZOFFSETTO:+0200
TZNAME:CEST
DTSTART:20220327T010000
END:DAYLIGHT
BEGIN:STANDARD
TZOFFSETFROM:+0200
TZOFFSETTO:+0100
TZNAME:CET
DTSTART:20221030T010000
END:STANDARD
BEGIN:DAYLIGHT
TZOFFSETFROM:+0100
TZOFFSETTO:+0200
TZNAME:CEST
DTSTART:20230326T010000
END:DAYLIGHT
BEGIN:STANDARD
TZOFFSETFROM:+0200
TZOFFSETTO:+0100
TZNAME:CET
DTSTART:20231029T010000
END:STANDARD
BEGIN:DAYLIGHT
TZOFFSETFROM:+0100
TZOFFSETTO:+0200
TZNAME:CEST
DTSTART:20240331T010000
END:DAYLIGHT
BEGIN:STANDARD
TZOFFSETFROM:+0200
TZOFFSETTO:+0100
TZNAME:CET
DTSTART:20241027T010000
END:STANDARD
END:VTIMEZONE
BEGIN:VEVENT
DTSTART;TZID=Europe/Berlin:20231102T200000
DTEND;TZID=Europe/Berlin:20231102T200000
DTSTAMP:20260422T104630
CREATED:20231017T110532Z
LAST-MODIFIED:20231017T110853Z
UID:4888-1698955200-1698955200@vfl-stade-tischtennis.de
SUMMARY:VfL Güldenstern Stade V vs. TuS Bargstedt III
DESCRIPTION:4. Kreisklasse Herren
URL:https://vfl-stade-tischtennis.de/event/vfl-gueldenstern-stade-v-vs-tus-bargstedt-iii/
LOCATION:Turnhalle GS Campe\, Brinkstraße 48\, Stade\, Niedersachsen\, 21680\, Deutschland
CATEGORIES:Punktspiele,Spiele Kreisklasse
END:VEVENT
BEGIN:VEVENT
DTSTART;TZID=Europe/Berlin:20231103T200000
DTEND;TZID=Europe/Berlin:20231103T230000
DTSTAMP:20260422T104630
CREATED:20231017T110923Z
LAST-MODIFIED:20231017T110923Z
UID:4891-1699041600-1699052400@vfl-stade-tischtennis.de
SUMMARY:VfL Güldenstern Stade vs. SG Wiedau
DESCRIPTION:Bezirksliga
URL:https://vfl-stade-tischtennis.de/event/vfl-gueldenstern-stade-vs-sg-wiedau/
LOCATION:Turnhalle GS Campe\, Brinkstraße 48\, Stade\, Niedersachsen\, 21680\, Deutschland
CATEGORIES:Punktspiele,Spiele Bezirksliga
END:VEVENT
BEGIN:VEVENT
DTSTART;TZID=Europe/Berlin:20231104T110000
DTEND;TZID=Europe/Berlin:20231104T140000
DTSTAMP:20260422T104630
CREATED:20231017T111021Z
LAST-MODIFIED:20231017T111021Z
UID:4893-1699095600-1699106400@vfl-stade-tischtennis.de
SUMMARY:TuS Fleestedt II vs. VfL Güldenstern Stade
DESCRIPTION:Bezirksliga Jugend
URL:https://vfl-stade-tischtennis.de/event/tus-fleestedt-ii-vs-vfl-gueldenstern-stade/
LOCATION:Sportzentrum Seevetal\, Mühlenweg 70\, Seevetal (Fleestedt)\, Niedersachsen\, 21217\, Deutschland
CATEGORIES:Punktspiele,Spiele Bezirksliga
END:VEVENT
BEGIN:VEVENT
DTSTART;TZID=Europe/Berlin:20231106T201500
DTEND;TZID=Europe/Berlin:20231106T230000
DTSTAMP:20260422T104630
CREATED:20231017T111213Z
LAST-MODIFIED:20231017T111213Z
UID:4895-1699301700-1699311600@vfl-stade-tischtennis.de
SUMMARY:TTG Buxtehude (SG) VI vs. VfL Güldenstern Stade IV
DESCRIPTION:3. Kreisklasse Herren
URL:https://vfl-stade-tischtennis.de/event/ttg-buxtehude-sg-vi-vs-vfl-gueldenstern-stade-iv/
LOCATION:Sporthalle Stieglitzschule Buxtehude\, Stieglitzweg 1\, Buxtehude\, Niedersachsen\, 21614\, Deutschland
CATEGORIES:Punktspiele,Spiele Kreisklasse
END:VEVENT
BEGIN:VEVENT
DTSTART;TZID=Europe/Berlin:20231107T180000
DTEND;TZID=Europe/Berlin:20231107T200000
DTSTAMP:20260422T104630
CREATED:20231017T111415Z
LAST-MODIFIED:20231017T111415Z
UID:4897-1699380000-1699387200@vfl-stade-tischtennis.de
SUMMARY:VfL Güldenstern Stade II vs. TTC Drochtersen
DESCRIPTION:Kreisliga Jugend
URL:https://vfl-stade-tischtennis.de/event/vfl-gueldenstern-stade-ii-vs-ttc-drochtersen/
LOCATION:Sporthalle Ottenbeck\, Ottenbecker Damm 50\, Stade\, Niedersachsen\, 21684\, Deutschland
CATEGORIES:Punktspiele,Spiele Kreisliga
END:VEVENT
BEGIN:VEVENT
DTSTART;TZID=Europe/Berlin:20231107T200000
DTEND;TZID=Europe/Berlin:20231107T230000
DTSTAMP:20260422T104630
CREATED:20231017T111507Z
LAST-MODIFIED:20231017T111507Z
UID:4899-1699387200-1699398000@vfl-stade-tischtennis.de
SUMMARY:VfL Güldenstern Stade II vs. TTG Buxtehude (SG) III
DESCRIPTION:Bezirksklasse Herren
URL:https://vfl-stade-tischtennis.de/event/vfl-gueldenstern-stade-ii-vs-ttg-buxtehude-sg-iii/
LOCATION:Sporthalle Ottenbeck\, Ottenbecker Damm 50\, Stade\, Niedersachsen\, 21684\, Deutschland
CATEGORIES:Punktspiele,Spiele Bezirksklasse
END:VEVENT
BEGIN:VEVENT
DTSTART;TZID=Europe/Berlin:20231109T200000
DTEND;TZID=Europe/Berlin:20231109T230000
DTSTAMP:20260422T104630
CREATED:20231017T111604Z
LAST-MODIFIED:20231017T111604Z
UID:4901-1699560000-1699570800@vfl-stade-tischtennis.de
SUMMARY:VfL Güldenstern Stade IV vs. SSV Hagen II
DESCRIPTION:3. Kreisklasse Herren
URL:https://vfl-stade-tischtennis.de/event/vfl-gueldenstern-stade-iv-vs-ssv-hagen-ii/
LOCATION:Turnhalle GS Campe\, Brinkstraße 48\, Stade\, Niedersachsen\, 21680\, Deutschland
CATEGORIES:Punktspiele,Spiele Kreisklasse
END:VEVENT
BEGIN:VEVENT
DTSTART;TZID=Europe/Berlin:20231110T201500
DTEND;TZID=Europe/Berlin:20231110T230000
DTSTAMP:20260422T104630
CREATED:20231017T111713Z
LAST-MODIFIED:20231017T111713Z
UID:4903-1699647300-1699657200@vfl-stade-tischtennis.de
SUMMARY:TTG Buxtehude (SG) vs. VfL Güldenstern Stade
DESCRIPTION:Bezirksliga Herren
URL:https://vfl-stade-tischtennis.de/event/ttg-buxtehude-sg-vs-vfl-gueldenstern-stade/
LOCATION:Waldsporthalle Hedendorf\, Rübenkamp\, Buxtehude\, 21614\, Deutschland
CATEGORIES:Punktspiele,Spiele Bezirksliga
END:VEVENT
BEGIN:VEVENT
DTSTART;TZID=Europe/Berlin:20231114T200000
DTEND;TZID=Europe/Berlin:20231114T230000
DTSTAMP:20260422T104630
CREATED:20231017T111913Z
LAST-MODIFIED:20231017T111913Z
UID:4905-1699992000-1700002800@vfl-stade-tischtennis.de
SUMMARY:VfL Güldenstern Stade III vs. Post SV Stade IV
DESCRIPTION:Kreisliga Herren
URL:https://vfl-stade-tischtennis.de/event/vfl-gueldenstern-stade-iii-vs-post-sv-stade-iv/
LOCATION:Sporthalle Ottenbeck\, Ottenbecker Damm 50\, Stade\, Niedersachsen\, 21684\, Deutschland
CATEGORIES:Punktspiele,Spiele Kreisliga
END:VEVENT
BEGIN:VEVENT
DTSTART;TZID=Europe/Berlin:20231116T200000
DTEND;TZID=Europe/Berlin:20231116T230000
DTSTAMP:20260422T104630
CREATED:20231017T112008Z
LAST-MODIFIED:20231017T112054Z
UID:4907-1700164800-1700175600@vfl-stade-tischtennis.de
SUMMARY:VfL Güldenstern Stade V vs. MTV Himmelpforten III
DESCRIPTION:4. Kreisklasse Herren
URL:https://vfl-stade-tischtennis.de/event/vfl-gueldenstern-stade-v-vs-mtv-himmelpforten-iii/
LOCATION:Turnhalle GS Campe\, Brinkstraße 48\, Stade\, Niedersachsen\, 21680\, Deutschland
CATEGORIES:Punktspiele,Spiele Kreisklasse
END:VEVENT
BEGIN:VEVENT
DTSTART;TZID=Europe/Berlin:20231116T200000
DTEND;TZID=Europe/Berlin:20231116T230000
DTSTAMP:20260422T104630
CREATED:20231017T112143Z
LAST-MODIFIED:20231017T112143Z
UID:4909-1700164800-1700175600@vfl-stade-tischtennis.de
SUMMARY:VfL Güldenstern Stade II vs. TT Bützfleth/Assel (SG)
DESCRIPTION:Bezirksklasse Herren
URL:https://vfl-stade-tischtennis.de/event/vfl-gueldenstern-stade-ii-vs-tt-buetzfleth-assel-sg/
LOCATION:Turnhalle GS Campe\, Brinkstraße 48\, Stade\, Niedersachsen\, 21680\, Deutschland
CATEGORIES:Punktspiele,Spiele Bezirksklasse
END:VEVENT
BEGIN:VEVENT
DTSTART;TZID=Europe/Berlin:20231117T200000
DTEND;TZID=Europe/Berlin:20231117T230000
DTSTAMP:20260422T104630
CREATED:20231017T112321Z
LAST-MODIFIED:20231017T112321Z
UID:4911-1700251200-1700262000@vfl-stade-tischtennis.de
SUMMARY:VfL Güldenstern Stade vs. TuS Harsefeld
DESCRIPTION:Bezirksliga Herren
URL:https://vfl-stade-tischtennis.de/event/vfl-gueldenstern-stade-vs-tus-harsefeld/
LOCATION:Turnhalle GS Campe\, Brinkstraße 48\, Stade\, Niedersachsen\, 21680\, Deutschland
CATEGORIES:Punktspiele,Spiele Bezirksliga
END:VEVENT
BEGIN:VEVENT
DTSTART;TZID=Europe/Berlin:20231120T200000
DTEND;TZID=Europe/Berlin:20231120T230000
DTSTAMP:20260422T104630
CREATED:20231017T112430Z
LAST-MODIFIED:20231017T112430Z
UID:4913-1700510400-1700521200@vfl-stade-tischtennis.de
SUMMARY:VfL Fredenbeck III vs. VfL Güldenstern Stade III
DESCRIPTION:Kreisliga Herren
URL:https://vfl-stade-tischtennis.de/event/vfl-fredenbeck-iii-vs-vfl-gueldenstern-stade-iii/
LOCATION:Kleine Halle Geestlandschule\, Am Mühlenbeck\, Fredenbeck\, Niedersachen\, 21717\, Deutschland
CATEGORIES:Punktspiele,Spiele Kreisliga
END:VEVENT
BEGIN:VEVENT
DTSTART;TZID=Europe/Berlin:20231121T200000
DTEND;TZID=Europe/Berlin:20231121T230000
DTSTAMP:20260422T104630
CREATED:20231017T112520Z
LAST-MODIFIED:20231017T112541Z
UID:4915-1700596800-1700607600@vfl-stade-tischtennis.de
SUMMARY:TuS Harsefeld V vs. VfL Güldenstern Stade IV
DESCRIPTION:3. Kreisklasse Herren
URL:https://vfl-stade-tischtennis.de/event/tus-harsefeld-v-vs-vfl-gueldenstern-stade-iv/
LOCATION:Sporthalle „Am Feldbusch“\, Auf dem Klingenberg 60\, Harsefeld\, Niedersachen\, 21698\, Deutschland
CATEGORIES:Punktspiele,Spiele Kreisklasse
END:VEVENT
BEGIN:VEVENT
DTSTART;TZID=Europe/Berlin:20231121T200000
DTEND;TZID=Europe/Berlin:20231121T230000
DTSTAMP:20260422T104630
CREATED:20231017T112641Z
LAST-MODIFIED:20231017T112641Z
UID:4917-1700596800-1700607600@vfl-stade-tischtennis.de
SUMMARY:VfL Güldenstern Stade II vs. TuS Jork
DESCRIPTION:Bezirksklasse Herren
URL:https://vfl-stade-tischtennis.de/event/vfl-gueldenstern-stade-ii-vs-tus-jork/
LOCATION:Sporthalle Ottenbeck\, Ottenbecker Damm 50\, Stade\, Niedersachsen\, 21684\, Deutschland
CATEGORIES:Punktspiele,Spiele Bezirksklasse
END:VEVENT
BEGIN:VEVENT
DTSTART;TZID=Europe/Berlin:20231123T200000
DTEND;TZID=Europe/Berlin:20231123T230000
DTSTAMP:20260422T104630
CREATED:20231017T113234Z
LAST-MODIFIED:20231017T113234Z
UID:4919-1700769600-1700780400@vfl-stade-tischtennis.de
SUMMARY:VfL Güldenstern Stade IV vs. SG Oste/Oldendorf
DESCRIPTION:3. Kreisklasse Herren
URL:https://vfl-stade-tischtennis.de/event/vfl-gueldenstern-stade-iv-vs-sg-oste-oldendorf/
LOCATION:Turnhalle GS Campe\, Brinkstraße 48\, Stade\, Niedersachsen\, 21680\, Deutschland
CATEGORIES:Punktspiele,Spiele Kreisklasse
END:VEVENT
BEGIN:VEVENT
DTSTART;TZID=Europe/Berlin:20231123T200000
DTEND;TZID=Europe/Berlin:20231123T230000
DTSTAMP:20260422T104630
CREATED:20231017T113318Z
LAST-MODIFIED:20231017T113318Z
UID:4921-1700769600-1700780400@vfl-stade-tischtennis.de
SUMMARY:VfL Güldenstern Stade II vs. SV Düdenbüttel
DESCRIPTION:Bezirksklasse Herren
URL:https://vfl-stade-tischtennis.de/event/vfl-gueldenstern-stade-ii-vs-sv-duedenbuettel/
LOCATION:Turnhalle GS Campe\, Brinkstraße 48\, Stade\, Niedersachsen\, 21680\, Deutschland
CATEGORIES:Punktspiele,Spiele Bezirksklasse
END:VEVENT
BEGIN:VEVENT
DTSTART;TZID=Europe/Berlin:20231124T200000
DTEND;TZID=Europe/Berlin:20231124T230000
DTSTAMP:20260422T104630
CREATED:20231017T113429Z
LAST-MODIFIED:20231017T113429Z
UID:4923-1700856000-1700866800@vfl-stade-tischtennis.de
SUMMARY:MTSV Oederquart/SV Krummendeich (SG) III vs. VfL Güldenstern Stade V
DESCRIPTION:4. Kreisklasse Herren
URL:https://vfl-stade-tischtennis.de/event/mtsv-oederquart-sv-krummendeich-sg-iii-vs-vfl-gueldenstern-stade-v/
LOCATION:Mehrzweckhalle Oederquart\, Am Sportplatz\, Oederquart\, Niedersachsen\, 21734\, Deutschland
END:VEVENT
BEGIN:VEVENT
DTSTART;TZID=Europe/Berlin:20231124T200000
DTEND;TZID=Europe/Berlin:20231124T230000
DTSTAMP:20260422T104630
CREATED:20231017T115416Z
LAST-MODIFIED:20231017T115508Z
UID:4925-1700856000-1700866800@vfl-stade-tischtennis.de
SUMMARY:VfL Fredenbeck II	 vs. VfL Güldenstern Stade
DESCRIPTION:Bezirksliga Herren
URL:https://vfl-stade-tischtennis.de/event/vfl-fredenbeck-ii-vs-vfl-gueldenstern-stade/
LOCATION:Kleine Halle Geestlandschule\, Am Mühlenbeck\, Fredenbeck\, Niedersachen\, 21717\, Deutschland
CATEGORIES:Punktspiele,Spiele Bezirksliga
END:VEVENT
BEGIN:VEVENT
DTSTART;TZID=Europe/Berlin:20231125T110000
DTEND;TZID=Europe/Berlin:20231125T140000
DTSTAMP:20260422T104630
CREATED:20231017T115609Z
LAST-MODIFIED:20231017T115609Z
UID:4927-1700910000-1700920800@vfl-stade-tischtennis.de
SUMMARY:VfL Güldenstern Stade vs. MTV Brackel
DESCRIPTION:Bezirksliga Jugend
URL:https://vfl-stade-tischtennis.de/event/vfl-gueldenstern-stade-vs-mtv-brackel/
LOCATION:Turnhalle GS Campe\, Brinkstraße 48\, Stade\, Niedersachsen\, 21680\, Deutschland
CATEGORIES:Punktspiele,Spiele Bezirksliga
END:VEVENT
BEGIN:VEVENT
DTSTART;TZID=Europe/Berlin:20231125T160000
DTEND;TZID=Europe/Berlin:20231125T190000
DTSTAMP:20260422T104630
CREATED:20231017T115909Z
LAST-MODIFIED:20231017T115909Z
UID:4929-1700928000-1700938800@vfl-stade-tischtennis.de
SUMMARY:VfL Güldenstern Stade vs. TuS Fintel
DESCRIPTION:Bezirksliga Herren
URL:https://vfl-stade-tischtennis.de/event/vfl-gueldenstern-stade-vs-tus-fintel/
LOCATION:Turnhalle GS Campe\, Brinkstraße 48\, Stade\, Niedersachsen\, 21680\, Deutschland
CATEGORIES:Punktspiele,Spiele Bezirksliga
END:VEVENT
END:VCALENDAR